BEGIN:VCALENDAR
VERSION:2.0
PRODID:-//rssny.org//NONSGML kigkonsult.se iCalcreator 2.30.10//
CALSCALE:GREGORIAN
METHOD:PUBLISH
UID:bb031ca6-4786-4f6c-a4c5-e06731d0274c
X-WR-CALDESC:Learn a variety of art techniques\, including painting and col
 oring as well as a wide range of craft projects ranging from “ memory boxe
 s” to holiday card making. What makes her class unique is the supportive\,
  non-judgmental environment that welcomes beginners and challenges experts
 .
X-WR-RELCALID:341fe674d718f3e40e7c3df813cc6270
X-WR-TIMEZONE:America/New_York
BEGIN:VTIMEZONE
TZID:America/New_York
BEGIN:STANDARD
TZNAME:EST
DTSTART:20251102T020000
TZOFFSETFROM:-0400
TZOFFSETTO:-0500
RDATE:20261101T020000
END:STANDARD
BEGIN:DAYLIGHT
TZNAME:EDT
DTSTART:20260308T020000
TZOFFSETFROM:-0500
TZOFFSETTO:-0400
RDATE:20270314T020000
END:DAYLIGHT
END:VTIMEZONE
BEGIN:VEVENT
UID:226b83ed-2a7a-4417-a8dc-a855327efcf3
DTSTAMP:20260424T124345Z
DESCRIPTION:Learn a variety of art techniques\, including painting and colo
 ring as well as a wide range of craft projects ranging from “ memory boxes
 ” to holiday card making. What makes her class unique is the supportive\, 
 non-judgmental environment that welcomes beginners and challenges experts.
DTSTART;TZID=America/New_York:20260406T110000
DTEND;TZID=America/New_York:20260406T120000
LOCATION:
SUMMARY:Art with Linda - In Center
END:VEVENT
END:VCALENDAR
