BEGIN:VCALENDAR
VERSION:2.0
PRODID:-//rssny.org//NONSGML kigkonsult.se iCalcreator 2.30.10//
CALSCALE:GREGORIAN
METHOD:PUBLISH
UID:36605cbe-5213-4bfe-8a75-fc57a160114b
X-WR-CALDESC:
X-WR-RELCALID:3b4c0e0dbb0cd9bcabcdfa8c341368b9
X-WR-TIMEZONE:America/New_York
BEGIN:VTIMEZONE
TZID:America/New_York
BEGIN:STANDARD
TZNAME:EST
DTSTART:20251102T020000
TZOFFSETFROM:-0400
TZOFFSETTO:-0500
RDATE:20261101T020000
END:STANDARD
BEGIN:DAYLIGHT
TZNAME:EDT
DTSTART:20260308T020000
TZOFFSETFROM:-0500
TZOFFSETTO:-0400
RDATE:20270314T020000
END:DAYLIGHT
END:VTIMEZONE
BEGIN:VEVENT
UID:4e601212-dd49-4fc7-aa88-3111b870e1a9
DTSTAMP:20260424T155549Z
DESCRIPTION:
DTSTART;TZID=America/New_York:20260325T130000
DTEND;TZID=America/New_York:20260325T150000
LOCATION:
SUMMARY:Movies: Erin Brokovich
END:VEVENT
END:VCALENDAR
