BEGIN:VCALENDAR
VERSION:2.0
PRODID:-//rssny.org//NONSGML kigkonsult.se iCalcreator 2.30.10//
CALSCALE:GREGORIAN
METHOD:PUBLISH
UID:1c1818a6-90f2-4ba5-952a-2c3125ee7fde
X-WR-CALDESC:Join us for breakfast at the Center!
X-WR-RELCALID:0944ec1aeb9c345481fdea0328fa4ef7
X-WR-TIMEZONE:America/New_York
BEGIN:VTIMEZONE
TZID:America/New_York
BEGIN:STANDARD
TZNAME:EST
DTSTART:20251102T020000
TZOFFSETFROM:-0400
TZOFFSETTO:-0500
RDATE:20261101T020000
END:STANDARD
BEGIN:DAYLIGHT
TZNAME:EDT
DTSTART:20260308T020000
TZOFFSETFROM:-0500
TZOFFSETTO:-0400
RDATE:20270314T020000
END:DAYLIGHT
END:VTIMEZONE
BEGIN:VEVENT
UID:cca9dd33-4fe8-4f15-ba4c-dbb18b05779f
DTSTAMP:20260424T155006Z
DESCRIPTION:Join us for breakfast at the Center!
DTSTART;TZID=America/New_York:20260325T090000
DTEND;TZID=America/New_York:20260325T100000
LOCATION:
SUMMARY:Breakfast Club (In Center)
END:VEVENT
END:VCALENDAR
