BEGIN:VCALENDAR
VERSION:2.0
PRODID:-//rssny.org//NONSGML kigkonsult.se iCalcreator 2.30.10//
CALSCALE:GREGORIAN
METHOD:PUBLISH
UID:60ebccc9-9139-4da3-bc65-43072102c9bd
X-WR-CALDESC:Weekly non-competitive bridge game
X-WR-RELCALID:36aa4954e4f2d803e7ccc1456a5d2f02
X-WR-TIMEZONE:America/New_York
BEGIN:VTIMEZONE
TZID:America/New_York
BEGIN:STANDARD
TZNAME:EST
DTSTART:20251102T020000
TZOFFSETFROM:-0400
TZOFFSETTO:-0500
RDATE:20261101T020000
END:STANDARD
BEGIN:DAYLIGHT
TZNAME:EDT
DTSTART:20260308T020000
TZOFFSETFROM:-0500
TZOFFSETTO:-0400
RDATE:20270314T020000
END:DAYLIGHT
END:VTIMEZONE
BEGIN:VEVENT
UID:66a3487f-1bd7-47df-bdcc-50230bb56b65
DTSTAMP:20260424T154848Z
DESCRIPTION:Weekly non-competitive bridge game
DTSTART;TZID=America/New_York:20260320T131500
DTEND;TZID=America/New_York:20260320T163000
LOCATION:
SUMMARY:Leisure Games Bridge (In Center)
END:VEVENT
END:VCALENDAR
