BEGIN:VCALENDAR
VERSION:2.0
PRODID:-//rssny.org//NONSGML kigkonsult.se iCalcreator 2.30.10//
CALSCALE:GREGORIAN
METHOD:PUBLISH
UID:74e8cb2b-a421-4d0b-ade0-1a7097a74185
X-WR-CALDESC:
X-WR-RELCALID:29a25e43784b7b350ab00a2c26ad5c94
X-WR-TIMEZONE:America/New_York
BEGIN:VTIMEZONE
TZID:America/New_York
BEGIN:STANDARD
TZNAME:EST
DTSTART:20251102T020000
TZOFFSETFROM:-0400
TZOFFSETTO:-0500
RDATE:20261101T020000
END:STANDARD
BEGIN:DAYLIGHT
TZNAME:EDT
DTSTART:20260308T020000
TZOFFSETFROM:-0500
TZOFFSETTO:-0400
RDATE:20270314T020000
END:DAYLIGHT
END:VTIMEZONE
BEGIN:VEVENT
UID:bd560994-623f-4731-9a4a-0f2761d51ef3
DTSTAMP:20260424T155710Z
DESCRIPTION:
DTSTART;TZID=America/New_York:20260318T120000
DTEND;TZID=America/New_York:20260318T130000
LOCATION:
SUMMARY:Lunch In Center: Birthday Party with DJ
END:VEVENT
END:VCALENDAR
