BEGIN:VCALENDAR
VERSION:2.0
PRODID:-//rssny.org//NONSGML kigkonsult.se iCalcreator 2.30.10//
CALSCALE:GREGORIAN
METHOD:PUBLISH
UID:313b390a-836f-45b3-a6ae-5e3921bd6ad5
X-WR-CALDESC:Learn a variety of art techniques\, including painting and col
 oring as well as a wide range of craft projects ranging from “ memory boxe
 s” to holiday card making. What makes her class unique is the supportive\,
  non-judgmental environment that welcomes beginners and challenges experts
 .
X-WR-RELCALID:7dea088c0dbf44c69f85b5ce46d16ce0
X-WR-TIMEZONE:America/New_York
BEGIN:VTIMEZONE
TZID:America/New_York
BEGIN:STANDARD
TZNAME:EST
DTSTART:20251102T020000
TZOFFSETFROM:-0400
TZOFFSETTO:-0500
RDATE:20261101T020000
END:STANDARD
BEGIN:DAYLIGHT
TZNAME:EDT
DTSTART:20260308T020000
TZOFFSETFROM:-0500
TZOFFSETTO:-0400
RDATE:20270314T020000
END:DAYLIGHT
END:VTIMEZONE
BEGIN:VEVENT
UID:04007678-2dc4-4e77-8702-fed38c78f7a3
DTSTAMP:20260424T155000Z
DESCRIPTION:Learn a variety of art techniques\, including painting and colo
 ring as well as a wide range of craft projects ranging from “ memory boxes
 ” to holiday card making. What makes her class unique is the supportive\, 
 non-judgmental environment that welcomes beginners and challenges experts.
DTSTART;TZID=America/New_York:20260316T110000
DTEND;TZID=America/New_York:20260316T120000
LOCATION:
SUMMARY:Art with Linda - In Center
END:VEVENT
END:VCALENDAR
