BEGIN:VCALENDAR
VERSION:2.0
PRODID:-//rssny.org//NONSGML kigkonsult.se iCalcreator 2.30.10//
CALSCALE:GREGORIAN
METHOD:PUBLISH
UID:f2c4c0ee-0172-41cb-bf19-d78b7c8085f2
X-WR-CALDESC:Weekly non-competitive bridge game
X-WR-RELCALID:2eac3011b55f0bf7908a3bab75e90b04
X-WR-TIMEZONE:America/New_York
BEGIN:VTIMEZONE
TZID:America/New_York
BEGIN:STANDARD
TZNAME:EST
DTSTART:20251102T020000
TZOFFSETFROM:-0400
TZOFFSETTO:-0500
RDATE:20261101T020000
END:STANDARD
BEGIN:DAYLIGHT
TZNAME:EDT
DTSTART:20260308T020000
TZOFFSETFROM:-0500
TZOFFSETTO:-0400
RDATE:20270314T020000
END:DAYLIGHT
END:VTIMEZONE
BEGIN:VEVENT
UID:88b08617-2733-490f-9d94-08a9d56ca9ff
DTSTAMP:20260424T155432Z
DESCRIPTION:Weekly non-competitive bridge game
DTSTART;TZID=America/New_York:20260313T131500
DTEND;TZID=America/New_York:20260313T163000
LOCATION:
SUMMARY:Leisure Games Bridge (In Center)
END:VEVENT
END:VCALENDAR
