BEGIN:VCALENDAR
VERSION:2.0
PRODID:-//rssny.org//NONSGML kigkonsult.se iCalcreator 2.30.10//
CALSCALE:GREGORIAN
METHOD:PUBLISH
UID:712d920e-f9a7-4fdb-a0e0-d3c77f67ec20
X-WR-CALDESC:Join us for a fun and creative event\, designed to spark imagi
 nation and encourage meaningful conversations! Participants will explore a
  hands-on art activity that uses the creative process of making art to pro
 vide self-expression and therapeutic benefits. Through enjoyable projects 
 and guided discussions\, older adults can reduce feelings of loneliness an
 d reflect on their thoughts and emotions in a supportive space.
X-WR-RELCALID:1e0965ce8b27b0f731a3b8041a447645
X-WR-TIMEZONE:America/New_York
BEGIN:VTIMEZONE
TZID:America/New_York
BEGIN:STANDARD
TZNAME:EST
DTSTART:20251102T020000
TZOFFSETFROM:-0400
TZOFFSETTO:-0500
RDATE:20261101T020000
END:STANDARD
BEGIN:DAYLIGHT
TZNAME:EDT
DTSTART:20260308T020000
TZOFFSETFROM:-0500
TZOFFSETTO:-0400
RDATE:20270314T020000
END:DAYLIGHT
END:VTIMEZONE
BEGIN:VEVENT
UID:01f8f148-53aa-40be-be31-9be94d75af36
DTSTAMP:20260424T141657Z
DESCRIPTION:Join us for a fun and creative event\, designed to spark imagin
 ation and encourage meaningful conversations! Participants will explore a 
 hands-on art activity that uses the creative process of making art to prov
 ide self-expression and therapeutic benefits. Through enjoyable projects a
 nd guided discussions\, older adults can reduce feelings of loneliness and
  reflect on their thoughts and emotions in a supportive space.
DTSTART;TZID=America/New_York:20260311T131500
DTEND;TZID=America/New_York:20260311T140000
LOCATION:
SUMMARY:Creations and Conversations w/ Meridith: Keychain Photo (In Person)
END:VEVENT
END:VCALENDAR
