BEGIN:VCALENDAR
VERSION:2.0
PRODID:-//rssny.org//NONSGML kigkonsult.se iCalcreator 2.30.10//
CALSCALE:GREGORIAN
METHOD:PUBLISH
UID:17b3fc63-797a-4afe-bdaf-1eaba199fb61
X-WR-CALDESC:
X-WR-RELCALID:cbcc0da8e2bc466919eab4b6bc285cb0
X-WR-TIMEZONE:America/New_York
BEGIN:VTIMEZONE
TZID:America/New_York
BEGIN:STANDARD
TZNAME:EST
DTSTART:20251102T020000
TZOFFSETFROM:-0400
TZOFFSETTO:-0500
RDATE:20261101T020000
END:STANDARD
BEGIN:DAYLIGHT
TZNAME:EDT
DTSTART:20260308T020000
TZOFFSETFROM:-0500
TZOFFSETTO:-0400
RDATE:20270314T020000
END:DAYLIGHT
END:VTIMEZONE
BEGIN:VEVENT
UID:1d3c83cf-379a-45a5-8bdc-1fdc03b211c0
DTSTAMP:20260424T154449Z
DESCRIPTION:
DTSTART;TZID=America/New_York:20260310T100000
DTEND;TZID=America/New_York:20260310T110000
LOCATION:
SUMMARY:Trip Committee meeting
END:VEVENT
END:VCALENDAR
