BEGIN:VCALENDAR
VERSION:2.0
PRODID:-//rssny.org//NONSGML kigkonsult.se iCalcreator 2.30.10//
CALSCALE:GREGORIAN
METHOD:PUBLISH
UID:8e7cf6d7-71df-4cf4-8066-ca9f1f3a3427
X-WR-CALDESC:
X-WR-RELCALID:485d765cdf14b4e2cc789f7537f677c7
X-WR-TIMEZONE:America/New_York
BEGIN:VTIMEZONE
TZID:America/New_York
BEGIN:STANDARD
TZNAME:EST
DTSTART:20251102T020000
TZOFFSETFROM:-0400
TZOFFSETTO:-0500
RDATE:20261101T020000
END:STANDARD
BEGIN:DAYLIGHT
TZNAME:EDT
DTSTART:20250309T020000
TZOFFSETFROM:-0500
TZOFFSETTO:-0400
RDATE:20260308T020000
RDATE:20270314T020000
END:DAYLIGHT
END:VTIMEZONE
BEGIN:VEVENT
UID:e71ab043-5faf-42c7-9720-6f92b8925b55
DTSTAMP:20260424T160307Z
DESCRIPTION:
DTSTART;TZID=America/New_York:20260304T130000
DTEND;TZID=America/New_York:20260304T150000
LOCATION:
SUMMARY:Movies In Center
END:VEVENT
END:VCALENDAR
