BEGIN:VCALENDAR
VERSION:2.0
PRODID:-//rssny.org//NONSGML kigkonsult.se iCalcreator 2.30.10//
CALSCALE:GREGORIAN
METHOD:PUBLISH
UID:0e060f4e-04c3-4031-b3ef-6e405128cb0d
X-WR-CALDESC:ACBL-accredited duplicate game (participants can earn Masterpo
 ints and the director (me) is ACBL-certified. Any level skill level is wel
 come.\n\nIf you are interested in joining send an email to info@rssny.org 
 or call 718.884.5900
X-WR-RELCALID:bf7d448161d005b3351085f733b556b1
X-WR-TIMEZONE:America/New_York
BEGIN:VTIMEZONE
TZID:America/New_York
BEGIN:STANDARD
TZNAME:EST
DTSTART:20251102T020000
TZOFFSETFROM:-0400
TZOFFSETTO:-0500
RDATE:20261101T020000
END:STANDARD
BEGIN:DAYLIGHT
TZNAME:EDT
DTSTART:20250309T020000
TZOFFSETFROM:-0500
TZOFFSETTO:-0400
RDATE:20260308T020000
RDATE:20270314T020000
END:DAYLIGHT
END:VTIMEZONE
BEGIN:VEVENT
UID:c7049bf7-f3a9-4951-9acd-9d3ac8e03286
DTSTAMP:20260424T183616Z
DESCRIPTION:ACBL-accredited duplicate game (participants can earn Masterpoi
 nts and the director (me) is ACBL-certified. Any level skill level is welc
 ome.\n\nIf you are interested in joining send an email to info@rssny.org o
 r call 718.884.5900
DTSTART;TZID=America/New_York:20260209T124500
DTEND;TZID=America/New_York:20260209T143000
LOCATION:
SUMMARY:On-Site: Duplicate Bridge with Rich (Invitation Only) - In Center
END:VEVENT
END:VCALENDAR
