BEGIN:VCALENDAR
VERSION:2.0
PRODID:-//rssny.org//NONSGML kigkonsult.se iCalcreator 2.30.10//
CALSCALE:GREGORIAN
METHOD:PUBLISH
UID:5f4fbc5d-202b-44a7-ab6d-bb690750e6a2
X-WR-CALDESC:Weekly non-competitive bridge game
X-WR-RELCALID:9aec798b08d38a490fe1f4b18bb0185b
X-WR-TIMEZONE:America/New_York
BEGIN:VTIMEZONE
TZID:America/New_York
BEGIN:STANDARD
TZNAME:EST
DTSTART:20251102T020000
TZOFFSETFROM:-0400
TZOFFSETTO:-0500
RDATE:20261101T020000
END:STANDARD
BEGIN:DAYLIGHT
TZNAME:EDT
DTSTART:20250309T020000
TZOFFSETFROM:-0500
TZOFFSETTO:-0400
RDATE:20260308T020000
RDATE:20270314T020000
END:DAYLIGHT
END:VTIMEZONE
BEGIN:VEVENT
UID:b6747437-04be-4907-87df-ba82173fd92c
DTSTAMP:20260424T214409Z
DESCRIPTION:Weekly non-competitive bridge game
DTSTART;TZID=America/New_York:20260206T131500
DTEND;TZID=America/New_York:20260206T163000
LOCATION:
SUMMARY:Leisure Games Bridge (In Center)
END:VEVENT
END:VCALENDAR
