BEGIN:VCALENDAR
VERSION:2.0
PRODID:-//rssny.org//NONSGML kigkonsult.se iCalcreator 2.30.10//
CALSCALE:GREGORIAN
METHOD:PUBLISH
UID:9e63a6cc-3925-4941-9606-b8d18f400cb0
X-WR-CALDESC:
X-WR-RELCALID:8e6c5dcb2738d98a69cc7c22fa1329b6
X-WR-TIMEZONE:America/New_York
BEGIN:VTIMEZONE
TZID:America/New_York
BEGIN:STANDARD
TZNAME:EST
DTSTART:20251102T020000
TZOFFSETFROM:-0400
TZOFFSETTO:-0500
RDATE:20261101T020000
END:STANDARD
BEGIN:DAYLIGHT
TZNAME:EDT
DTSTART:20250309T020000
TZOFFSETFROM:-0500
TZOFFSETTO:-0400
RDATE:20260308T020000
RDATE:20270314T020000
END:DAYLIGHT
END:VTIMEZONE
BEGIN:VEVENT
UID:efe8de9e-d78a-4e33-90ec-33fd045f6c02
DTSTAMP:20260424T200805Z
DESCRIPTION:
DTSTART;TZID=America/New_York:20260204T130000
DTEND;TZID=America/New_York:20260204T150000
LOCATION:
SUMMARY:Movies In Center
END:VEVENT
END:VCALENDAR
