BEGIN:VCALENDAR
VERSION:2.0
PRODID:-//rssny.org//NONSGML kigkonsult.se iCalcreator 2.30.10//
CALSCALE:GREGORIAN
METHOD:PUBLISH
UID:2775797b-91ba-4b25-9f2c-d86ea8c5e6d7
X-WR-CALDESC:Weekly non-competitive bridge game
X-WR-RELCALID:07f53cb7f0b6047302ee2a3b7d595110
X-WR-TIMEZONE:America/New_York
BEGIN:VTIMEZONE
TZID:America/New_York
BEGIN:STANDARD
TZNAME:EST
DTSTART:20251102T020000
TZOFFSETFROM:-0400
TZOFFSETTO:-0500
RDATE:20261101T020000
END:STANDARD
BEGIN:DAYLIGHT
TZNAME:EDT
DTSTART:20250309T020000
TZOFFSETFROM:-0500
TZOFFSETTO:-0400
RDATE:20260308T020000
RDATE:20270314T020000
END:DAYLIGHT
END:VTIMEZONE
BEGIN:VEVENT
UID:1a2aea5e-06e6-42b2-85d5-a16216e59cc1
DTSTAMP:20260424T214709Z
DESCRIPTION:Weekly non-competitive bridge game
DTSTART;TZID=America/New_York:20260123T131500
DTEND;TZID=America/New_York:20260123T163000
LOCATION:
SUMMARY:Leisure Games Bridge (In Center)
END:VEVENT
END:VCALENDAR
