BEGIN:VCALENDAR
VERSION:2.0
PRODID:-//rssny.org//NONSGML kigkonsult.se iCalcreator 2.30.10//
CALSCALE:GREGORIAN
METHOD:PUBLISH
UID:1d55ea57-3284-4a31-9e04-987b6567f9be
X-WR-CALDESC:Learn to speak English confidently in a fun and supportive env
 ironment. Our classes are designed for people of all levels\, and we focus
  on everyday conversation topics.
X-WR-RELCALID:57bff9109bd819c96a7620f256436908
X-WR-TIMEZONE:America/New_York
BEGIN:VTIMEZONE
TZID:America/New_York
BEGIN:STANDARD
TZNAME:EST
DTSTART:20251102T020000
TZOFFSETFROM:-0400
TZOFFSETTO:-0500
RDATE:20261101T020000
END:STANDARD
BEGIN:DAYLIGHT
TZNAME:EDT
DTSTART:20250309T020000
TZOFFSETFROM:-0500
TZOFFSETTO:-0400
RDATE:20260308T020000
RDATE:20270314T020000
END:DAYLIGHT
END:VTIMEZONE
BEGIN:VEVENT
UID:c9d348d3-7605-435f-9df0-83f4fdfa2b1e
DTSTAMP:20260424T214720Z
DESCRIPTION:Learn to speak English confidently in a fun and supportive envi
 ronment. Our classes are designed for people of all levels\, and we focus 
 on everyday conversation topics.
DTSTART;TZID=America/New_York:20260115T093000
DTEND;TZID=America/New_York:20260115T103000
LOCATION:
SUMMARY:Conversational English (In Center)CANCELED
END:VEVENT
END:VCALENDAR
