BEGIN:VCALENDAR
VERSION:2.0
PRODID:-//rssny.org//NONSGML kigkonsult.se iCalcreator 2.30.10//
CALSCALE:GREGORIAN
METHOD:PUBLISH
UID:b5309e83-19f3-45f4-8eb6-93e05658b29c
X-WR-CALDESC:Love knitting? Want to learn? Join the RSS knitting group. Reg
 istration not required.
X-WR-RELCALID:168793516febd20ed560e150dff7a9c0
X-WR-TIMEZONE:America/New_York
BEGIN:VTIMEZONE
TZID:America/New_York
BEGIN:STANDARD
TZNAME:EST
DTSTART:20251102T020000
TZOFFSETFROM:-0400
TZOFFSETTO:-0500
RDATE:20261101T020000
END:STANDARD
BEGIN:DAYLIGHT
TZNAME:EDT
DTSTART:20250309T020000
TZOFFSETFROM:-0500
TZOFFSETTO:-0400
RDATE:20260308T020000
RDATE:20270314T020000
END:DAYLIGHT
END:VTIMEZONE
BEGIN:VEVENT
UID:688e00ab-b1be-4762-a742-d9355d13d780
DTSTAMP:20260424T232034Z
DESCRIPTION:Love knitting? Want to learn? Join the RSS knitting group. Regi
 stration not required.
DTSTART;TZID=America/New_York:20260108T100000
DTEND;TZID=America/New_York:20260108T113000
LOCATION:
SUMMARY:IN PERSON: Knitting Group
END:VEVENT
END:VCALENDAR
