BEGIN:VCALENDAR
VERSION:2.0
PRODID:-//rssny.org//NONSGML kigkonsult.se iCalcreator 2.30.10//
CALSCALE:GREGORIAN
METHOD:PUBLISH
UID:216104e9-2bb3-4210-ba00-3ed97d30b27f
X-WR-CALDESC:
X-WR-RELCALID:b1819dfb114de9654a4d86209416b838
X-WR-TIMEZONE:America/New_York
BEGIN:VTIMEZONE
TZID:America/New_York
BEGIN:STANDARD
TZNAME:EST
DTSTART:20251102T020000
TZOFFSETFROM:-0400
TZOFFSETTO:-0500
RDATE:20261101T020000
END:STANDARD
BEGIN:DAYLIGHT
TZNAME:EDT
DTSTART:20250309T020000
TZOFFSETFROM:-0500
TZOFFSETTO:-0400
RDATE:20260308T020000
RDATE:20270314T020000
END:DAYLIGHT
END:VTIMEZONE
BEGIN:VEVENT
UID:ad422954-ff90-4fa9-844c-ab758f32e9e8
DTSTAMP:20260424T214911Z
DESCRIPTION:
DTSTART;TZID=America/New_York:20260107T130000
DTEND;TZID=America/New_York:20260107T150000
LOCATION:
SUMMARY:Movie: New Year's Eve
END:VEVENT
END:VCALENDAR
