BEGIN:VCALENDAR
VERSION:2.0
PRODID:-//rssny.org//NONSGML kigkonsult.se iCalcreator 2.30.10//
CALSCALE:GREGORIAN
METHOD:PUBLISH
UID:8c348243-825f-40d8-b0cf-d3860e1bd34d
X-WR-CALDESC:Weekly non-competitive bridge game
X-WR-RELCALID:eb25065f75883dc929962caf517c6a01
X-WR-TIMEZONE:America/New_York
BEGIN:VTIMEZONE
TZID:America/New_York
BEGIN:STANDARD
TZNAME:EST
DTSTART:20251102T020000
TZOFFSETFROM:-0400
TZOFFSETTO:-0500
RDATE:20261101T020000
END:STANDARD
BEGIN:DAYLIGHT
TZNAME:EDT
DTSTART:20250309T020000
TZOFFSETFROM:-0500
TZOFFSETTO:-0400
RDATE:20260308T020000
RDATE:20270314T020000
END:DAYLIGHT
END:VTIMEZONE
BEGIN:VEVENT
UID:90fa69ff-49f4-4172-ae6a-72c3d6a162bf
DTSTAMP:20260425T004905Z
DESCRIPTION:Weekly non-competitive bridge game
DTSTART;TZID=America/New_York:20251226T131500
DTEND;TZID=America/New_York:20251226T163000
LOCATION:
SUMMARY:Leisure Games Bridge (In Center)
END:VEVENT
END:VCALENDAR
