BEGIN:VCALENDAR
VERSION:2.0
PRODID:-//rssny.org//NONSGML kigkonsult.se iCalcreator 2.30.10//
CALSCALE:GREGORIAN
METHOD:PUBLISH
UID:04355195-d5c0-4e7f-b257-15cb68249604
X-WR-CALDESC:
X-WR-RELCALID:4208d5fe5b0bd0421f5de7777eedc2b6
X-WR-TIMEZONE:America/New_York
BEGIN:VTIMEZONE
TZID:America/New_York
BEGIN:STANDARD
TZNAME:EST
DTSTART:20251102T020000
TZOFFSETFROM:-0400
TZOFFSETTO:-0500
RDATE:20261101T020000
END:STANDARD
BEGIN:DAYLIGHT
TZNAME:EDT
DTSTART:20250309T020000
TZOFFSETFROM:-0500
TZOFFSETTO:-0400
RDATE:20260308T020000
RDATE:20270314T020000
END:DAYLIGHT
END:VTIMEZONE
BEGIN:VEVENT
UID:daaffc6b-57fc-4d9a-bf5f-3890389e8167
DTSTAMP:20260425T004757Z
DESCRIPTION:
DTSTART;TZID=America/New_York:20251222T130000
DTEND;TZID=America/New_York:20251222T140000
LOCATION:
SUMMARY:Current Events with Tim (In Center)
END:VEVENT
END:VCALENDAR
