BEGIN:VCALENDAR
VERSION:2.0
PRODID:-//rssny.org//NONSGML kigkonsult.se iCalcreator 2.30.10//
CALSCALE:GREGORIAN
METHOD:PUBLISH
UID:8b003717-9072-4dc1-8bd1-67471ffb0bf6
X-WR-CALDESC:
X-WR-RELCALID:e0d252f4e171843bfbb540627b855373
X-WR-TIMEZONE:America/New_York
BEGIN:VTIMEZONE
TZID:America/New_York
BEGIN:STANDARD
TZNAME:EST
DTSTART:20251102T020000
TZOFFSETFROM:-0400
TZOFFSETTO:-0500
RDATE:20261101T020000
END:STANDARD
BEGIN:DAYLIGHT
TZNAME:EDT
DTSTART:20250309T020000
TZOFFSETFROM:-0500
TZOFFSETTO:-0400
RDATE:20260308T020000
RDATE:20270314T020000
END:DAYLIGHT
END:VTIMEZONE
BEGIN:VEVENT
UID:8acfb381-cb32-468b-b525-35df40ff1115
DTSTAMP:20260425T004756Z
DESCRIPTION:
DTSTART;TZID=America/New_York:20251219T100000
DTEND;TZID=America/New_York:20251219T120000
LOCATION:No Registration Required
SUMMARY:Sculpture Studio (IN CENTER)
END:VEVENT
END:VCALENDAR
