BEGIN:VCALENDAR
VERSION:2.0
PRODID:-//rssny.org//NONSGML kigkonsult.se iCalcreator 2.30.10//
CALSCALE:GREGORIAN
METHOD:PUBLISH
UID:b4227654-eb74-4b0e-bdd0-5a36f3bc7e03
X-WR-CALDESC:Join us for breakfast at the Center!
X-WR-RELCALID:224a6d26221bfb3eab785ec16704352c
X-WR-TIMEZONE:America/New_York
BEGIN:VTIMEZONE
TZID:America/New_York
BEGIN:STANDARD
TZNAME:EST
DTSTART:20251102T020000
TZOFFSETFROM:-0400
TZOFFSETTO:-0500
RDATE:20261101T020000
END:STANDARD
BEGIN:DAYLIGHT
TZNAME:EDT
DTSTART:20250309T020000
TZOFFSETFROM:-0500
TZOFFSETTO:-0400
RDATE:20260308T020000
RDATE:20270314T020000
END:DAYLIGHT
END:VTIMEZONE
BEGIN:VEVENT
UID:8953d163-86bb-4721-9d1d-f86a42a18104
DTSTAMP:20260425T004916Z
DESCRIPTION:Join us for breakfast at the Center!
DTSTART;TZID=America/New_York:20251217T090000
DTEND;TZID=America/New_York:20251217T100000
LOCATION:
SUMMARY:Breakfast Club (In Center)
END:VEVENT
END:VCALENDAR
