BEGIN:VCALENDAR
VERSION:2.0
PRODID:-//rssny.org//NONSGML kigkonsult.se iCalcreator 2.30.10//
CALSCALE:GREGORIAN
METHOD:PUBLISH
UID:f4dfe3c0-41aa-426d-b508-96c5dad78bec
X-WR-CALDESC:Call 718.884.5900 if you are interested in joining.
X-WR-RELCALID:9c4d8b1aa13a108f6d3b272e7886625e
X-WR-TIMEZONE:America/New_York
BEGIN:VTIMEZONE
TZID:America/New_York
BEGIN:STANDARD
TZNAME:EST
DTSTART:20251102T020000
TZOFFSETFROM:-0400
TZOFFSETTO:-0500
RDATE:20261101T020000
END:STANDARD
BEGIN:DAYLIGHT
TZNAME:EDT
DTSTART:20250309T020000
TZOFFSETFROM:-0500
TZOFFSETTO:-0400
RDATE:20260308T020000
RDATE:20270314T020000
END:DAYLIGHT
END:VTIMEZONE
BEGIN:VEVENT
UID:689a5627-d0da-4e7e-b891-61272cf11997
DTSTAMP:20260425T005003Z
DESCRIPTION:Call 718.884.5900 if you are interested in joining.
DTSTART;TZID=America/New_York:20251208T100000
DTEND;TZID=America/New_York:20251208T110000
LOCATION:
SUMMARY:Leisure Games: Canasta\, Mah Jongg (IN CENTER)
END:VEVENT
END:VCALENDAR
