BEGIN:VCALENDAR
VERSION:2.0
PRODID:-//rssny.org//NONSGML kigkonsult.se iCalcreator 2.30.10//
CALSCALE:GREGORIAN
METHOD:PUBLISH
UID:fb9f92ca-a353-4776-afff-fa217c2bbe2e
X-WR-CALDESC:
X-WR-RELCALID:9151ceb9b14fdc90993e297bcbce6c74
X-WR-TIMEZONE:America/New_York
BEGIN:VTIMEZONE
TZID:America/New_York
BEGIN:STANDARD
TZNAME:EST
DTSTART:20251102T020000
TZOFFSETFROM:-0400
TZOFFSETTO:-0500
RDATE:20261101T020000
END:STANDARD
BEGIN:DAYLIGHT
TZNAME:EDT
DTSTART:20250309T020000
TZOFFSETFROM:-0500
TZOFFSETTO:-0400
RDATE:20260308T020000
RDATE:20270314T020000
END:DAYLIGHT
END:VTIMEZONE
BEGIN:VEVENT
UID:371c686d-ead8-453a-9e68-b1009823b03c
DTSTAMP:20260425T004615Z
DESCRIPTION:
DTSTART;TZID=America/New_York:20251206T100000
DTEND;TZID=America/New_York:20251206T140000
LOCATION:
SUMMARY:Winter Bazaar
END:VEVENT
END:VCALENDAR
