BEGIN:VCALENDAR
VERSION:2.0
PRODID:-//rssny.org//NONSGML kigkonsult.se iCalcreator 2.30.10//
CALSCALE:GREGORIAN
METHOD:PUBLISH
UID:7c96bb10-a70d-4af8-9f8b-1a1396fd0cc7
X-WR-CALDESC:Join us decorating and help to make RSS ready for the holidays
X-WR-RELCALID:9c261e8b3cfc70d068bb303cefdc9ac5
X-WR-TIMEZONE:America/New_York
BEGIN:VTIMEZONE
TZID:America/New_York
BEGIN:STANDARD
TZNAME:EST
DTSTART:20251102T020000
TZOFFSETFROM:-0400
TZOFFSETTO:-0500
RDATE:20261101T020000
END:STANDARD
BEGIN:DAYLIGHT
TZNAME:EDT
DTSTART:20250309T020000
TZOFFSETFROM:-0500
TZOFFSETTO:-0400
RDATE:20260308T020000
RDATE:20270314T020000
END:DAYLIGHT
END:VTIMEZONE
BEGIN:VEVENT
UID:0f7c5c5a-2e80-4543-94a9-370de7efd36b
DTSTAMP:20260425T004650Z
DESCRIPTION:Join us decorating and help to make RSS ready for the holidays
DTSTART;TZID=America/New_York:20251204T103000
DTEND;TZID=America/New_York:20251204T120000
LOCATION:
SUMMARY:Tree Trimming at RSS
END:VEVENT
END:VCALENDAR
