BEGIN:VCALENDAR
VERSION:2.0
PRODID:-//rssny.org//NONSGML kigkonsult.se iCalcreator 2.30.10//
CALSCALE:GREGORIAN
METHOD:PUBLISH
UID:2a4ee920-fd09-4441-af94-013b4ccdd098
X-WR-CALDESC:Love knitting? Want to learn? Join the RSS knitting group. Reg
 istration not required.
X-WR-RELCALID:46449c781f0fba7c059ac0d1d198c272
X-WR-TIMEZONE:America/New_York
BEGIN:VTIMEZONE
TZID:America/New_York
BEGIN:STANDARD
TZNAME:EST
DTSTART:20251102T020000
TZOFFSETFROM:-0400
TZOFFSETTO:-0500
RDATE:20261101T020000
END:STANDARD
BEGIN:DAYLIGHT
TZNAME:EDT
DTSTART:20250309T020000
TZOFFSETFROM:-0500
TZOFFSETTO:-0400
RDATE:20260308T020000
RDATE:20270314T020000
END:DAYLIGHT
END:VTIMEZONE
BEGIN:VEVENT
UID:b9b3822f-7c51-41d6-b566-bfe72ee64392
DTSTAMP:20260425T004843Z
DESCRIPTION:Love knitting? Want to learn? Join the RSS knitting group. Regi
 stration not required.
DTSTART;TZID=America/New_York:20251204T100000
DTEND;TZID=America/New_York:20251204T113000
LOCATION:
SUMMARY:IN PERSON: Knitting Group
END:VEVENT
END:VCALENDAR
