BEGIN:VCALENDAR
VERSION:2.0
PRODID:-//rssny.org//NONSGML kigkonsult.se iCalcreator 2.30.10//
CALSCALE:GREGORIAN
METHOD:PUBLISH
UID:821526c8-6bac-4521-958e-bcf209dc67a4
X-WR-CALDESC:
X-WR-RELCALID:f98bb94e2f1a0a7984d05f67ef67286c
X-WR-TIMEZONE:America/New_York
BEGIN:VTIMEZONE
TZID:America/New_York
BEGIN:STANDARD
TZNAME:EST
DTSTART:20251102T020000
TZOFFSETFROM:-0400
TZOFFSETTO:-0500
RDATE:20261101T020000
END:STANDARD
BEGIN:DAYLIGHT
TZNAME:EDT
DTSTART:20250309T020000
TZOFFSETFROM:-0500
TZOFFSETTO:-0400
RDATE:20260308T020000
RDATE:20270314T020000
END:DAYLIGHT
END:VTIMEZONE
BEGIN:VEVENT
UID:7bad7e11-c66a-4ab1-8c1a-40017dda6aa1
DTSTAMP:20260425T004951Z
DESCRIPTION:
DTSTART;TZID=America/New_York:20251203T130000
DTEND;TZID=America/New_York:20251203T150000
LOCATION:
SUMMARY:Movies In Center: Elf
END:VEVENT
END:VCALENDAR
