BEGIN:VCALENDAR
VERSION:2.0
PRODID:-//rssny.org//NONSGML kigkonsult.se iCalcreator 2.30.10//
CALSCALE:GREGORIAN
METHOD:PUBLISH
UID:ebf8d893-6e39-4d71-a952-b32debc7f486
X-WR-CALDESC:Let's come together to celebrate the vibrant joy and incredibl
 e diversity of the LGBTQ+ community! In this collaborative craft session\,
  we'll honor LGBTQ+ people everywhere by creating a beautiful Collage Quil
 t. Bring your creativity and help us weave together a stunning mosaic of r
 ainbows\, meaningful symbols\, and inspiring images that represent pride\,
  love\, and solidarity. All skill levels welcome!
X-WR-RELCALID:6938bc39cd9801b76676ad09f558d5be
X-WR-TIMEZONE:America/New_York
BEGIN:VTIMEZONE
TZID:America/New_York
BEGIN:STANDARD
TZNAME:EST
DTSTART:20251102T020000
TZOFFSETFROM:-0400
TZOFFSETTO:-0500
RDATE:20261101T020000
END:STANDARD
BEGIN:DAYLIGHT
TZNAME:EDT
DTSTART:20250309T020000
TZOFFSETFROM:-0500
TZOFFSETTO:-0400
RDATE:20260308T020000
RDATE:20270314T020000
END:DAYLIGHT
END:VTIMEZONE
BEGIN:VEVENT
UID:88ea04ac-5f34-4241-8db2-37dc56b4b0e5
DTSTAMP:20260425T004800Z
DESCRIPTION:Let's come together to celebrate the vibrant joy and incredible
  diversity of the LGBTQ+ community! In this collaborative craft session\, 
 we'll honor LGBTQ+ people everywhere by creating a beautiful Collage Quilt
 . Bring your creativity and help us weave together a stunning mosaic of ra
 inbows\, meaningful symbols\, and inspiring images that represent pride\, 
 love\, and solidarity. All skill levels welcome!
DTSTART;TZID=America/New_York:20251201T130000
DTEND;TZID=America/New_York:20251201T140000
LOCATION:
SUMMARY:LGBTQ+ Collage Quilt (In Center)
END:VEVENT
END:VCALENDAR
