BEGIN:VCALENDAR
VERSION:2.0
PRODID:-//rssny.org//NONSGML kigkonsult.se iCalcreator 2.30.10//
CALSCALE:GREGORIAN
METHOD:PUBLISH
UID:41a4f388-ada6-4170-b80d-23fae61994a6
X-WR-CALDESC:
X-WR-RELCALID:d80cd2315f5519ebaa2538ef0dd1e988
X-WR-TIMEZONE:America/New_York
BEGIN:VTIMEZONE
TZID:America/New_York
BEGIN:STANDARD
TZNAME:EST
DTSTART:20251102T020000
TZOFFSETFROM:-0400
TZOFFSETTO:-0500
RDATE:20261101T020000
END:STANDARD
BEGIN:DAYLIGHT
TZNAME:EDT
DTSTART:20250309T020000
TZOFFSETFROM:-0500
TZOFFSETTO:-0400
RDATE:20260308T020000
RDATE:20270314T020000
END:DAYLIGHT
END:VTIMEZONE
BEGIN:VEVENT
UID:e7398e0b-73d6-4ffb-b9c0-935410484868
DTSTAMP:20260425T022830Z
DESCRIPTION:
DTSTART;TZID=America/New_York:20251126T130000
DTEND;TZID=America/New_York:20251126T150000
LOCATION:
SUMMARY:Movies In Center: Bury My Heart at Wounded Knee
END:VEVENT
END:VCALENDAR
