BEGIN:VCALENDAR
VERSION:2.0
PRODID:-//rssny.org//NONSGML kigkonsult.se iCalcreator 2.30.10//
CALSCALE:GREGORIAN
METHOD:PUBLISH
UID:941b86f8-02c5-4228-81ff-4dae5d54326a
X-WR-CALDESC:Weekly non-competitive bridge game
X-WR-RELCALID:b8b26ff4c818a25c36cc74c189f09364
X-WR-TIMEZONE:America/New_York
BEGIN:VTIMEZONE
TZID:America/New_York
BEGIN:STANDARD
TZNAME:EST
DTSTART:20251102T020000
TZOFFSETFROM:-0400
TZOFFSETTO:-0500
RDATE:20261101T020000
END:STANDARD
BEGIN:DAYLIGHT
TZNAME:EDT
DTSTART:20250309T020000
TZOFFSETFROM:-0500
TZOFFSETTO:-0400
RDATE:20260308T020000
RDATE:20270314T020000
END:DAYLIGHT
END:VTIMEZONE
BEGIN:VEVENT
UID:fece8985-f937-402e-95d7-c617cf955e12
DTSTAMP:20260425T022105Z
DESCRIPTION:Weekly non-competitive bridge game
DTSTART;TZID=America/New_York:20251121T131500
DTEND;TZID=America/New_York:20251121T163000
LOCATION:
SUMMARY:Leisure Games Bridge (In Center)
END:VEVENT
END:VCALENDAR
