BEGIN:VCALENDAR
VERSION:2.0
PRODID:-//rssny.org//NONSGML kigkonsult.se iCalcreator 2.30.10//
CALSCALE:GREGORIAN
METHOD:PUBLISH
UID:21e17597-c4f9-4e30-b7cc-3fac1e0aea94
X-WR-CALDESC:Join us for the monthly Birthday Party dance party!
X-WR-RELCALID:f4aeaf8e07b89ec02d31bd32b351c503
X-WR-TIMEZONE:America/New_York
BEGIN:VTIMEZONE
TZID:America/New_York
BEGIN:STANDARD
TZNAME:EST
DTSTART:20251102T020000
TZOFFSETFROM:-0400
TZOFFSETTO:-0500
RDATE:20261101T020000
END:STANDARD
BEGIN:DAYLIGHT
TZNAME:EDT
DTSTART:20250309T020000
TZOFFSETFROM:-0500
TZOFFSETTO:-0400
RDATE:20260308T020000
RDATE:20270314T020000
END:DAYLIGHT
END:VTIMEZONE
BEGIN:VEVENT
UID:441bd5be-1298-4fec-99f4-bf35ec40b6e7
DTSTAMP:20260425T022510Z
DESCRIPTION:Join us for the monthly Birthday Party dance party!
DTSTART;TZID=America/New_York:20251119T140000
DTEND;TZID=America/New_York:20251119T150000
LOCATION:
SUMMARY:Birthday Party with DJ (In Center)
END:VEVENT
END:VCALENDAR
