BEGIN:VCALENDAR
VERSION:2.0
PRODID:-//rssny.org//NONSGML kigkonsult.se iCalcreator 2.30.10//
CALSCALE:GREGORIAN
METHOD:PUBLISH
UID:79c288d3-880d-4fd8-8b39-bcc5d31a3b4f
X-WR-CALDESC:
X-WR-RELCALID:2031fce2ea8a82bbb7d746b7707722f1
X-WR-TIMEZONE:America/New_York
BEGIN:VTIMEZONE
TZID:America/New_York
BEGIN:STANDARD
TZNAME:EST
DTSTART:20251102T020000
TZOFFSETFROM:-0400
TZOFFSETTO:-0500
RDATE:20261101T020000
END:STANDARD
BEGIN:DAYLIGHT
TZNAME:EDT
DTSTART:20250309T020000
TZOFFSETFROM:-0500
TZOFFSETTO:-0400
RDATE:20260308T020000
RDATE:20270314T020000
END:DAYLIGHT
END:VTIMEZONE
BEGIN:VEVENT
UID:f79d33be-6474-4751-b9c6-d78b90d1616f
DTSTAMP:20260425T022717Z
DESCRIPTION:
DTSTART;TZID=America/New_York:20251119T150000
DTEND;TZID=America/New_York:20251119T163000
LOCATION:
SUMMARY:Movies In Center: The Father
END:VEVENT
END:VCALENDAR
