BEGIN:VCALENDAR
VERSION:2.0
PRODID:-//rssny.org//NONSGML kigkonsult.se iCalcreator 2.30.10//
CALSCALE:GREGORIAN
METHOD:PUBLISH
UID:75ebf336-0f68-44db-8951-9c4e0cc1de4d
X-WR-CALDESC:
X-WR-RELCALID:530f2086ec24bfb8785fccf33b083be6
X-WR-TIMEZONE:America/New_York
BEGIN:VTIMEZONE
TZID:America/New_York
BEGIN:STANDARD
TZNAME:EST
DTSTART:20251102T020000
TZOFFSETFROM:-0400
TZOFFSETTO:-0500
RDATE:20261101T020000
END:STANDARD
BEGIN:DAYLIGHT
TZNAME:EDT
DTSTART:20250309T020000
TZOFFSETFROM:-0500
TZOFFSETTO:-0400
RDATE:20260308T020000
RDATE:20270314T020000
END:DAYLIGHT
END:VTIMEZONE
BEGIN:VEVENT
UID:b0c7d34a-37f2-4597-b5f6-905b814e183a
DTSTAMP:20260425T022656Z
DESCRIPTION:
DTSTART;TZID=America/New_York:20251112T130000
DTEND;TZID=America/New_York:20251112T150000
LOCATION:
SUMMARY:Movies In Center: Hacksaw Ridge
END:VEVENT
END:VCALENDAR
