BEGIN:VCALENDAR
VERSION:2.0
PRODID:-//rssny.org//NONSGML kigkonsult.se iCalcreator 2.30.10//
CALSCALE:GREGORIAN
METHOD:PUBLISH
UID:0ea30284-c940-4cc6-961e-0a26938fba92
X-WR-CALDESC:There are Big Changes coming in 2026 with Medicare. RSS is her
 e to help. Join Medicare Consultant\, Caitlin Stiene-Forese to learn more 
 and ask questions on Friday\, November 7 @ 1:15 pm. \n\nYou can also get i
 nformation on this link about the changes and Open Enrollment: https://rss
 ny.org/services/medicare-open-enrollment-2026.html
X-WR-RELCALID:959d572f5149dea2479c5562ba3314f3
X-WR-TIMEZONE:America/New_York
BEGIN:VTIMEZONE
TZID:America/New_York
BEGIN:STANDARD
TZNAME:EST
DTSTART:20251102T020000
TZOFFSETFROM:-0400
TZOFFSETTO:-0500
RDATE:20261101T020000
END:STANDARD
BEGIN:DAYLIGHT
TZNAME:EDT
DTSTART:20250309T020000
TZOFFSETFROM:-0500
TZOFFSETTO:-0400
RDATE:20260308T020000
RDATE:20270314T020000
END:DAYLIGHT
END:VTIMEZONE
BEGIN:VEVENT
UID:ec545b4f-36db-45ef-b9f7-6f000e18db8e
DTSTAMP:20260425T021931Z
DESCRIPTION:There are Big Changes coming in 2026 with Medicare. RSS is here
  to help. Join Medicare Consultant\, Caitlin Stiene-Forese to learn more a
 nd ask questions on Friday\, November 7 @ 1:15 pm. \n\nYou can also get in
 formation on this link about the changes and Open Enrollment: https://rssn
 y.org/services/medicare-open-enrollment-2026.html
DTSTART;TZID=America/New_York:20251107T060000
DTEND;TZID=America/New_York:20251107T060001
LOCATION:
SUMMARY:Medicare Open Enrollment
END:VEVENT
END:VCALENDAR
