BEGIN:VCALENDAR
VERSION:2.0
PRODID:-//rssny.org//NONSGML kigkonsult.se iCalcreator 2.30.10//
CALSCALE:GREGORIAN
METHOD:PUBLISH
UID:f7db8ad4-8d0a-4c72-9509-eb2c7afd9d46
X-WR-CALDESC:
X-WR-RELCALID:7a92c7586288e60b99914a6bd456b0a6
X-WR-TIMEZONE:America/New_York
BEGIN:VTIMEZONE
TZID:America/New_York
BEGIN:STANDARD
TZNAME:EST
DTSTART:20251102T020000
TZOFFSETFROM:-0400
TZOFFSETTO:-0500
RDATE:20261101T020000
END:STANDARD
BEGIN:DAYLIGHT
TZNAME:EDT
DTSTART:20250309T020000
TZOFFSETFROM:-0500
TZOFFSETTO:-0400
RDATE:20260308T020000
RDATE:20270314T020000
END:DAYLIGHT
END:VTIMEZONE
BEGIN:VEVENT
UID:9fd5aac0-c0be-4f54-a667-de4d3d6b8dd0
DTSTAMP:20260425T021931Z
DESCRIPTION:
DTSTART;TZID=America/New_York:20251106T090000
DTEND;TZID=America/New_York:20251106T150000
LOCATION:
SUMMARY:VISIONS Adaptive Program (Invitation Only)
END:VEVENT
END:VCALENDAR
