BEGIN:VCALENDAR
VERSION:2.0
PRODID:-//rssny.org//NONSGML kigkonsult.se iCalcreator 2.30.10//
CALSCALE:GREGORIAN
METHOD:PUBLISH
UID:0b9ab508-e59f-44d2-90b8-c7d36148e6c5
X-WR-CALDESC:
X-WR-RELCALID:9b9324e26e32d202816b283f2d02456b
X-WR-TIMEZONE:America/New_York
BEGIN:VTIMEZONE
TZID:America/New_York
BEGIN:STANDARD
TZNAME:EST
DTSTART:20251102T020000
TZOFFSETFROM:-0400
TZOFFSETTO:-0500
RDATE:20261101T020000
END:STANDARD
BEGIN:DAYLIGHT
TZNAME:EDT
DTSTART:20250309T020000
TZOFFSETFROM:-0500
TZOFFSETTO:-0400
RDATE:20260308T020000
RDATE:20270314T020000
END:DAYLIGHT
END:VTIMEZONE
BEGIN:VEVENT
UID:51b8a9e9-3b09-4ddb-ae1f-4dd3370ee9c4
DTSTAMP:20260425T022657Z
DESCRIPTION:
DTSTART;TZID=America/New_York:20251105T130000
DTEND;TZID=America/New_York:20251105T150000
LOCATION:
SUMMARY:Movies In Center: Carol
END:VEVENT
END:VCALENDAR
