BEGIN:VCALENDAR
VERSION:2.0
PRODID:-//rssny.org//NONSGML kigkonsult.se iCalcreator 2.30.10//
CALSCALE:GREGORIAN
METHOD:PUBLISH
UID:27703b80-9911-4794-89da-0b32559b6ab5
X-WR-CALDESC:Join us for breakfast at the Center!
X-WR-RELCALID:db326cedbcf1d3de1a30d95d593d9b87
X-WR-TIMEZONE:America/New_York
BEGIN:VTIMEZONE
TZID:America/New_York
BEGIN:STANDARD
TZNAME:EST
DTSTART:20251102T020000
TZOFFSETFROM:-0400
TZOFFSETTO:-0500
RDATE:20261101T020000
END:STANDARD
BEGIN:DAYLIGHT
TZNAME:EDT
DTSTART:20250309T020000
TZOFFSETFROM:-0500
TZOFFSETTO:-0400
RDATE:20260308T020000
RDATE:20270314T020000
END:DAYLIGHT
END:VTIMEZONE
BEGIN:VEVENT
UID:7949e600-0304-4d14-9d39-5ef2aeab715e
DTSTAMP:20260425T022548Z
DESCRIPTION:Join us for breakfast at the Center!
DTSTART;TZID=America/New_York:20251105T090000
DTEND;TZID=America/New_York:20251105T100000
LOCATION:
SUMMARY:Breakfast Club (In Center)
END:VEVENT
END:VCALENDAR
