BEGIN:VCALENDAR
VERSION:2.0
PRODID:-//rssny.org//NONSGML kigkonsult.se iCalcreator 2.30.10//
CALSCALE:GREGORIAN
METHOD:PUBLISH
UID:78be2970-353f-409a-b196-7e7a82426671
X-WR-CALDESC:
X-WR-RELCALID:ed713fc95371372e85475f34f3e9575d
X-WR-TIMEZONE:America/New_York
BEGIN:VTIMEZONE
TZID:America/New_York
BEGIN:STANDARD
TZNAME:EST
DTSTART:20241103T020000
TZOFFSETFROM:-0400
TZOFFSETTO:-0500
RDATE:20251102T020000
RDATE:20261101T020000
END:STANDARD
BEGIN:DAYLIGHT
TZNAME:EDT
DTSTART:20250309T020000
TZOFFSETFROM:-0500
TZOFFSETTO:-0400
RDATE:20260308T020000
RDATE:20270314T020000
END:DAYLIGHT
END:VTIMEZONE
BEGIN:VEVENT
UID:faffb423-a450-4cb8-9940-f542f7782cdd
DTSTAMP:20260425T035849Z
DESCRIPTION:
DTSTART;TZID=America/New_York:20251030T090000
DTEND;TZID=America/New_York:20251030T150000
LOCATION:
SUMMARY:VISIONS Adaptive Program (Invitation Only)
END:VEVENT
END:VCALENDAR
