BEGIN:VCALENDAR
VERSION:2.0
PRODID:-//rssny.org//NONSGML kigkonsult.se iCalcreator 2.30.10//
CALSCALE:GREGORIAN
METHOD:PUBLISH
UID:25794a98-ea48-4dfe-98e6-63914cad78be
X-WR-CALDESC:Register here - https://rssny.org/reopening-forms/collage.html
 \n\nUse all different kinds of media to create wonderful art pieces. Carol
  Frank is back leading a class in mixed media. Space is limited so please 
 register soon!
X-WR-RELCALID:da869aecc557edd0b8cfdea582e8d13f
X-WR-TIMEZONE:America/New_York
BEGIN:VTIMEZONE
TZID:America/New_York
BEGIN:STANDARD
TZNAME:EST
DTSTART:20241103T020000
TZOFFSETFROM:-0400
TZOFFSETTO:-0500
RDATE:20251102T020000
RDATE:20261101T020000
END:STANDARD
BEGIN:DAYLIGHT
TZNAME:EDT
DTSTART:20250309T020000
TZOFFSETFROM:-0500
TZOFFSETTO:-0400
RDATE:20260308T020000
RDATE:20270314T020000
END:DAYLIGHT
END:VTIMEZONE
BEGIN:VEVENT
UID:2db17695-dd55-4e24-be8d-8f8726b9586f
DTSTAMP:20260425T040242Z
DESCRIPTION:Register here - https://rssny.org/reopening-forms/collage.html
 \n\nUse all different kinds of media to create wonderful art pieces. Carol
  Frank is back leading a class in mixed media. Space is limited so please 
 register soon!
DTSTART;TZID=America/New_York:20251028T130000
DTEND;TZID=America/New_York:20251028T150000
LOCATION:https://rssny.org/reopening-forms/collage.html
SUMMARY:Collage with Annelen (In-Person)
END:VEVENT
END:VCALENDAR
