BEGIN:VCALENDAR
VERSION:2.0
PRODID:-//rssny.org//NONSGML kigkonsult.se iCalcreator 2.30.10//
CALSCALE:GREGORIAN
METHOD:PUBLISH
UID:4f52e067-3138-49e8-bc09-e810df6b7b77
X-WR-CALDESC:
X-WR-RELCALID:bf2d6eb5fe485b4f3c6af67448ac6a90
X-WR-TIMEZONE:America/New_York
BEGIN:VTIMEZONE
TZID:America/New_York
BEGIN:STANDARD
TZNAME:EST
DTSTART:20241103T020000
TZOFFSETFROM:-0400
TZOFFSETTO:-0500
RDATE:20251102T020000
RDATE:20261101T020000
END:STANDARD
BEGIN:DAYLIGHT
TZNAME:EDT
DTSTART:20250309T020000
TZOFFSETFROM:-0500
TZOFFSETTO:-0400
RDATE:20260308T020000
RDATE:20270314T020000
END:DAYLIGHT
END:VTIMEZONE
BEGIN:VEVENT
UID:a790d456-12dd-4264-9a35-670d569c67b7
DTSTAMP:20260425T035454Z
DESCRIPTION:
DTSTART;TZID=America/New_York:20251016T110000
DTEND;TZID=America/New_York:20251016T120000
LOCATION:
SUMMARY:Folk Dancing - IN CENTER
END:VEVENT
END:VCALENDAR
