BEGIN:VCALENDAR
VERSION:2.0
PRODID:-//rssny.org//NONSGML kigkonsult.se iCalcreator 2.30.10//
CALSCALE:GREGORIAN
METHOD:PUBLISH
UID:449ec895-1811-4d8a-9de1-03ce53a5f5fe
X-WR-CALDESC:Register to Attend Online\nhttps://us02web.zoom.us/meeting/reg
 ister/MAikLnLtTxeW-egzTEH_sQ
X-WR-RELCALID:cdaa316626a534e5de86decdbcdd3a9e
X-WR-TIMEZONE:America/New_York
BEGIN:VTIMEZONE
TZID:America/New_York
BEGIN:STANDARD
TZNAME:EST
DTSTART:20241103T020000
TZOFFSETFROM:-0400
TZOFFSETTO:-0500
RDATE:20251102T020000
RDATE:20261101T020000
END:STANDARD
BEGIN:DAYLIGHT
TZNAME:EDT
DTSTART:20250309T020000
TZOFFSETFROM:-0500
TZOFFSETTO:-0400
RDATE:20260308T020000
RDATE:20270314T020000
END:DAYLIGHT
END:VTIMEZONE
BEGIN:VEVENT
UID:ba341eb9-6d1e-42a8-97fe-19e9c065d45e
DTSTAMP:20260425T040009Z
DESCRIPTION:Register to Attend Online\nhttps://us02web.zoom.us/meeting/regi
 ster/MAikLnLtTxeW-egzTEH_sQ
DTSTART;TZID=America/New_York:20251015T130000
DTEND;TZID=America/New_York:20251015T140000
LOCATION:https://us02web.zoom.us/meeting/register/MAikLnLtTxeW-egzTEH_sQ
SUMMARY:Science and Art Intersect: Phoenix Museum Presentation (Hybrid)
END:VEVENT
END:VCALENDAR
