BEGIN:VCALENDAR
VERSION:2.0
PRODID:-//rssny.org//NONSGML kigkonsult.se iCalcreator 2.30.10//
CALSCALE:GREGORIAN
METHOD:PUBLISH
UID:3569ba9b-e53a-4792-ae14-ec2ea0d305c9
X-WR-CALDESC:\n
X-WR-RELCALID:9f9ef39d9a222dbb3826664899bb905d
X-WR-TIMEZONE:America/New_York
BEGIN:VTIMEZONE
TZID:America/New_York
BEGIN:STANDARD
TZNAME:EST
DTSTART:20241103T020000
TZOFFSETFROM:-0400
TZOFFSETTO:-0500
RDATE:20251102T020000
RDATE:20261101T020000
END:STANDARD
BEGIN:DAYLIGHT
TZNAME:EDT
DTSTART:20250309T020000
TZOFFSETFROM:-0500
TZOFFSETTO:-0400
RDATE:20260308T020000
RDATE:20270314T020000
END:DAYLIGHT
END:VTIMEZONE
BEGIN:VEVENT
UID:cb279d76-1521-4a2d-8bf5-5d767ac54bf9
DTSTAMP:20260425T041322Z
DESCRIPTION:\n
DTSTART;TZID=America/New_York:20251009T100000
DTEND;TZID=America/New_York:20251009T150000
LOCATION:
SUMMARY:Blood Pressure Testing (In Center)
END:VEVENT
END:VCALENDAR
