BEGIN:VCALENDAR
VERSION:2.0
PRODID:-//rssny.org//NONSGML kigkonsult.se iCalcreator 2.30.10//
CALSCALE:GREGORIAN
METHOD:PUBLISH
UID:82e61fb7-a714-42f1-a4b7-6dec4e6d40f0
X-WR-CALDESC:\n
X-WR-RELCALID:fb7d12196bb54928cbd13667f6a214f0
X-WR-TIMEZONE:America/New_York
BEGIN:VTIMEZONE
TZID:America/New_York
BEGIN:STANDARD
TZNAME:EST
DTSTART:20241103T020000
TZOFFSETFROM:-0400
TZOFFSETTO:-0500
RDATE:20251102T020000
RDATE:20261101T020000
END:STANDARD
BEGIN:DAYLIGHT
TZNAME:EDT
DTSTART:20250309T020000
TZOFFSETFROM:-0500
TZOFFSETTO:-0400
RDATE:20260308T020000
RDATE:20270314T020000
END:DAYLIGHT
END:VTIMEZONE
BEGIN:VEVENT
UID:d5a586ad-4414-442a-a93d-15e7e6d16568
DTSTAMP:20260425T040157Z
DESCRIPTION:\n
DTSTART;TZID=America/New_York:20251007T100000
DTEND;TZID=America/New_York:20251007T150000
LOCATION:
SUMMARY:Blood Pressure Testing (In Center)
END:VEVENT
END:VCALENDAR
