BEGIN:VCALENDAR
VERSION:2.0
PRODID:-//rssny.org//NONSGML kigkonsult.se iCalcreator 2.30.10//
CALSCALE:GREGORIAN
METHOD:PUBLISH
UID:63f9b804-6626-439f-80ee-ecd693e90326
X-WR-CALDESC:Weekly non-competitive bridge game
X-WR-RELCALID:e249530c49d80bf6919fd195ebeed7c4
X-WR-TIMEZONE:America/New_York
BEGIN:VTIMEZONE
TZID:America/New_York
BEGIN:STANDARD
TZNAME:EST
DTSTART:20241103T020000
TZOFFSETFROM:-0400
TZOFFSETTO:-0500
RDATE:20251102T020000
RDATE:20261101T020000
END:STANDARD
BEGIN:DAYLIGHT
TZNAME:EDT
DTSTART:20250309T020000
TZOFFSETFROM:-0500
TZOFFSETTO:-0400
RDATE:20260308T020000
RDATE:20270314T020000
END:DAYLIGHT
END:VTIMEZONE
BEGIN:VEVENT
UID:5cfc9276-14bb-4d90-82d4-48e45b076583
DTSTAMP:20260425T040242Z
DESCRIPTION:Weekly non-competitive bridge game
DTSTART;TZID=America/New_York:20251003T131500
DTEND;TZID=America/New_York:20251003T163000
LOCATION:
SUMMARY:Leisure Games Bridge (In Center)
END:VEVENT
END:VCALENDAR
