BEGIN:VCALENDAR
VERSION:2.0
PRODID:-//rssny.org//NONSGML kigkonsult.se iCalcreator 2.30.10//
CALSCALE:GREGORIAN
METHOD:PUBLISH
UID:36bdae5f-7749-452f-8795-2678bf4a6377
X-WR-CALDESC:
X-WR-RELCALID:aeadc65bf1c934e5cdf7d0b43abb0b23
X-WR-TIMEZONE:America/New_York
BEGIN:VTIMEZONE
TZID:America/New_York
BEGIN:STANDARD
TZNAME:EST
DTSTART:20241103T020000
TZOFFSETFROM:-0400
TZOFFSETTO:-0500
RDATE:20251102T020000
RDATE:20261101T020000
END:STANDARD
BEGIN:DAYLIGHT
TZNAME:EDT
DTSTART:20250309T020000
TZOFFSETFROM:-0500
TZOFFSETTO:-0400
RDATE:20260308T020000
RDATE:20270314T020000
END:DAYLIGHT
END:VTIMEZONE
BEGIN:VEVENT
UID:f876b5e2-bbee-4cac-9cfe-fc507ec7594a
DTSTAMP:20260425T041143Z
DESCRIPTION:
DTSTART;TZID=America/New_York:20251001T130000
DTEND;TZID=America/New_York:20251001T150000
LOCATION:
SUMMARY:Movies In Center: The Mambo Kings
END:VEVENT
END:VCALENDAR
