BEGIN:VCALENDAR
VERSION:2.0
PRODID:-//rssny.org//NONSGML kigkonsult.se iCalcreator 2.30.10//
CALSCALE:GREGORIAN
METHOD:PUBLISH
UID:dd6fcccc-1e83-48b1-828f-01480e055e67
X-WR-CALDESC:Join us for a town hall with our new Executive Director Tina C
 ordoza-Izquierdo. Tina will update us on exciting ideas for the future and
  wants to hear from you - what do you think needs improvement\, should be 
 expanded and how to make RSS the best place to be.\n\nFeel free to ask que
 stions in advance.
X-WR-RELCALID:57a6e4bd6a212c233b204c8e21021a9a
X-WR-TIMEZONE:America/New_York
BEGIN:VTIMEZONE
TZID:America/New_York
BEGIN:STANDARD
TZNAME:EST
DTSTART:20241103T020000
TZOFFSETFROM:-0400
TZOFFSETTO:-0500
RDATE:20251102T020000
RDATE:20261101T020000
END:STANDARD
BEGIN:DAYLIGHT
TZNAME:EDT
DTSTART:20250309T020000
TZOFFSETFROM:-0500
TZOFFSETTO:-0400
RDATE:20260308T020000
END:DAYLIGHT
END:VTIMEZONE
BEGIN:VEVENT
UID:807ec130-0463-4888-8102-91418eb4f67b
DTSTAMP:20260425T105601Z
DESCRIPTION:Join us for a town hall with our new Executive Director Tina Co
 rdoza-Izquierdo. Tina will update us on exciting ideas for the future and 
 wants to hear from you - what do you think needs improvement\, should be e
 xpanded and how to make RSS the best place to be.\n\nFeel free to ask ques
 tions in advance.
DTSTART;TZID=America/New_York:20250630T110000
DTEND;TZID=America/New_York:20250630T120000
LOCATION:
SUMMARY:Town Hall with RSS Executive Director Tina Cardoza-Izquierdo (Hybri
 d)
END:VEVENT
END:VCALENDAR
