BEGIN:VCALENDAR
VERSION:2.0
PRODID:-//rssny.org//NONSGML kigkonsult.se iCalcreator 2.30.10//
CALSCALE:GREGORIAN
METHOD:PUBLISH
UID:47f3837e-b324-47d5-b21c-a7595d298d65
X-WR-CALDESC:
X-WR-RELCALID:f589ba7481a36480cf9e3e230514c0ff
X-WR-TIMEZONE:America/New_York
BEGIN:VTIMEZONE
TZID:America/New_York
BEGIN:STANDARD
TZNAME:EST
DTSTART:20241103T020000
TZOFFSETFROM:-0400
TZOFFSETTO:-0500
RDATE:20251102T020000
RDATE:20261101T020000
END:STANDARD
BEGIN:DAYLIGHT
TZNAME:EDT
DTSTART:20250309T020000
TZOFFSETFROM:-0500
TZOFFSETTO:-0400
RDATE:20260308T020000
END:DAYLIGHT
END:VTIMEZONE
BEGIN:VEVENT
UID:8c2a8763-3e83-44d2-b3f3-2b67e18a6b9a
DTSTAMP:20260425T105320Z
DESCRIPTION:
DTSTART;TZID=America/New_York:20250625T120000
DTEND;TZID=America/New_York:20250625T130000
LOCATION:
SUMMARY:Birthday Party Lunch In Center
END:VEVENT
END:VCALENDAR
