BEGIN:VCALENDAR
VERSION:2.0
PRODID:-//rssny.org//NONSGML kigkonsult.se iCalcreator 2.30.10//
CALSCALE:GREGORIAN
METHOD:PUBLISH
UID:046fb247-74c1-413c-a359-05c7793e8aa1
X-WR-CALDESC:Join us for breakfast at the Center!
X-WR-RELCALID:5e1b4c3f8a377c5c33cb2bd710415c8e
X-WR-TIMEZONE:America/New_York
BEGIN:VTIMEZONE
TZID:America/New_York
BEGIN:STANDARD
TZNAME:EST
DTSTART:20241103T020000
TZOFFSETFROM:-0400
TZOFFSETTO:-0500
RDATE:20251102T020000
RDATE:20261101T020000
END:STANDARD
BEGIN:DAYLIGHT
TZNAME:EDT
DTSTART:20250309T020000
TZOFFSETFROM:-0500
TZOFFSETTO:-0400
RDATE:20260308T020000
END:DAYLIGHT
END:VTIMEZONE
BEGIN:VEVENT
UID:fb808169-ad87-4beb-93a8-db01b2ffae5d
DTSTAMP:20260425T105313Z
DESCRIPTION:Join us for breakfast at the Center!
DTSTART;TZID=America/New_York:20250625T090000
DTEND;TZID=America/New_York:20250625T100000
LOCATION:
SUMMARY:Breakfast Club (In Center)
END:VEVENT
END:VCALENDAR
