BEGIN:VCALENDAR
VERSION:2.0
PRODID:-//rssny.org//NONSGML kigkonsult.se iCalcreator 2.30.10//
CALSCALE:GREGORIAN
METHOD:PUBLISH
UID:c9e247ff-5e8f-409d-aee9-e9f4feaae30d
X-WR-CALDESC:
X-WR-RELCALID:19535c4aa7f7f60e544e8ed41e0858e5
X-WR-TIMEZONE:America/New_York
BEGIN:VTIMEZONE
TZID:America/New_York
BEGIN:STANDARD
TZNAME:EST
DTSTART:20241103T020000
TZOFFSETFROM:-0400
TZOFFSETTO:-0500
RDATE:20251102T020000
RDATE:20261101T020000
END:STANDARD
BEGIN:DAYLIGHT
TZNAME:EDT
DTSTART:20250309T020000
TZOFFSETFROM:-0500
TZOFFSETTO:-0400
RDATE:20260308T020000
END:DAYLIGHT
END:VTIMEZONE
BEGIN:VEVENT
UID:fd448b58-14d9-46fb-b774-f4f3fab1edc6
DTSTAMP:20260425T105513Z
DESCRIPTION:
DTSTART;TZID=America/New_York:20250620T120000
DTEND;TZID=America/New_York:20250620T130000
LOCATION:
SUMMARY:Lunch In Center: Birthday Party with DJ
END:VEVENT
END:VCALENDAR
