BEGIN:VCALENDAR
VERSION:2.0
PRODID:-//rssny.org//NONSGML kigkonsult.se iCalcreator 2.30.10//
CALSCALE:GREGORIAN
METHOD:PUBLISH
UID:a0bd9c61-109d-4948-bf13-0ce73321784b
X-WR-CALDESC:Join us for breakfast at the Center!
X-WR-RELCALID:3e57781e0d9320077c9cf575b90bddc7
X-WR-TIMEZONE:America/New_York
BEGIN:VTIMEZONE
TZID:America/New_York
BEGIN:STANDARD
TZNAME:EST
DTSTART:20241103T020000
TZOFFSETFROM:-0400
TZOFFSETTO:-0500
RDATE:20251102T020000
RDATE:20261101T020000
END:STANDARD
BEGIN:DAYLIGHT
TZNAME:EDT
DTSTART:20250309T020000
TZOFFSETFROM:-0500
TZOFFSETTO:-0400
RDATE:20260308T020000
END:DAYLIGHT
END:VTIMEZONE
BEGIN:VEVENT
UID:f8d22154-74d1-4875-8cba-e6986fead86d
DTSTAMP:20260425T105206Z
DESCRIPTION:Join us for breakfast at the Center!
DTSTART;TZID=America/New_York:20250618T090000
DTEND;TZID=America/New_York:20250618T100000
LOCATION:
SUMMARY:Breakfast Club (In Center)
END:VEVENT
END:VCALENDAR
