BEGIN:VCALENDAR
VERSION:2.0
PRODID:-//rssny.org//NONSGML kigkonsult.se iCalcreator 2.30.10//
CALSCALE:GREGORIAN
METHOD:PUBLISH
UID:19b609e3-f0e7-4bbb-b5e4-6569a889a322
X-WR-CALDESC:This class is in the center.\n\nLevel: Beginner\n\nThe session
  is led by Tabitha Rosa\, the RSS Tech Specialist and Digital Engagement C
 oordinator.
X-WR-RELCALID:597036581d044745fa81010cd902aa2d
X-WR-TIMEZONE:America/New_York
BEGIN:VTIMEZONE
TZID:America/New_York
BEGIN:STANDARD
TZNAME:EST
DTSTART:20241103T020000
TZOFFSETFROM:-0400
TZOFFSETTO:-0500
RDATE:20251102T020000
RDATE:20261101T020000
END:STANDARD
BEGIN:DAYLIGHT
TZNAME:EDT
DTSTART:20250309T020000
TZOFFSETFROM:-0500
TZOFFSETTO:-0400
RDATE:20260308T020000
END:DAYLIGHT
END:VTIMEZONE
BEGIN:VEVENT
UID:f7db339e-4273-4a43-99e9-1b7c290c4609
DTSTAMP:20260425T105405Z
DESCRIPTION:This class is in the center.\n\nLevel: Beginner\n\nThe session 
 is led by Tabitha Rosa\, the RSS Tech Specialist and Digital Engagement Co
 ordinator.
DTSTART;TZID=America/New_York:20250617T110000
DTEND;TZID=America/New_York:20250617T120000
LOCATION:
SUMMARY:Tech How-to's: Online Travel Planning (HYBRID)
END:VEVENT
END:VCALENDAR
